BEGIN:VCALENDAR
VERSION:2.0
PRODID:-//Buffalo Bayou Partnership - ECPv6.15.20//NONSGML v1.0//EN
CALSCALE:GREGORIAN
METHOD:PUBLISH
X-ORIGINAL-URL:https://buffalobayou.org
X-WR-CALDESC:Events for Buffalo Bayou Partnership
REFRESH-INTERVAL;VALUE=DURATION:PT1H
X-Robots-Tag:noindex
X-PUBLISHED-TTL:PT1H
BEGIN:VTIMEZONE
TZID:America/Chicago
BEGIN:DAYLIGHT
TZOFFSETFROM:-0600
TZOFFSETTO:-0500
TZNAME:CDT
DTSTART:20230312T080000
END:DAYLIGHT
BEGIN:STANDARD
TZOFFSETFROM:-0500
TZOFFSETTO:-0600
TZNAME:CST
DTSTART:20231105T070000
END:STANDARD
BEGIN:DAYLIGHT
TZOFFSETFROM:-0600
TZOFFSETTO:-0500
TZNAME:CDT
DTSTART:20240310T080000
END:DAYLIGHT
BEGIN:STANDARD
TZOFFSETFROM:-0500
TZOFFSETTO:-0600
TZNAME:CST
DTSTART:20241103T070000
END:STANDARD
BEGIN:DAYLIGHT
TZOFFSETFROM:-0600
TZOFFSETTO:-0500
TZNAME:CDT
DTSTART:20250309T080000
END:DAYLIGHT
BEGIN:STANDARD
TZOFFSETFROM:-0500
TZOFFSETTO:-0600
TZNAME:CST
DTSTART:20251102T070000
END:STANDARD
END:VTIMEZONE
BEGIN:VEVENT
DTSTART;TZID=America/Chicago:20241109T100000
DTEND;TZID=America/Chicago:20241109T104500
DTSTAMP:20260425T111916
CREATED:20240909T184950Z
LAST-MODIFIED:20240910T145954Z
UID:10003572-1731146400-1731149100@buffalobayou.org
SUMMARY:Sound Healing Meditation
DESCRIPTION:Find your center and practice meditation in the spacious and tranquil Buffalo Bayou Park Cistern. Offered in collaboration with Union is Creation\, this meditation series will feature the use of singing bowls and wind chimes to encourage mindfulness and connectivity. \nGuests should bring their own cushions or mats and water only in a non-glass container. No food or non-water drinks are allowed inside the Cistern. \nCost: $15 \nPURCHASE TICKETS \n 
URL:https://buffalobayou.org/event/sound-healing-meditation-164/
LOCATION:BUFFALO BAYOU PARK CISTERN\, 105 Sabine Street\, Houston\, TX\, 77007\, United States
CATEGORIES:Cistern
ATTACH;FMTTYPE=image/jpeg:https://buffalobayou.org/wp-content/uploads/2023/04/sound-bath-high-res-crop-scaled-1.jpg
END:VEVENT
BEGIN:VEVENT
DTSTART;TZID=America/Chicago:20241109T100000
DTEND;TZID=America/Chicago:20241109T120000
DTSTAMP:20260425T111916
CREATED:20240909T191904Z
LAST-MODIFIED:20240909T191904Z
UID:10003582-1731146400-1731153600@buffalobayou.org
SUMMARY:Buffalo Bayou Cruise: Port to Port
DESCRIPTION:The Port to Port History Tour is a 2-hour cruise east of downtown on Buffalo Bayou from Allen’s Landing to the Port of Houston Turning Basin. \nIn 1914 with the opening of the Houston Ship Channel and the modern Port of Houston\, the section of Buffalo Bayou from the port’s turning basin to the foot of Main Street (now known as Allen’s Landing) was called the upper channel.  Join bayou guide Andrew Groocock on a historical tour of the upper channel of Buffalo Bayou focusing on the historic significance of this industrial stretch and Houston\, as you cruise the approximately seven miles from the old port of Houston to the new port of Houston. \nCost: $45/person \nDeparture location: 1019 Commerce Street (at Main Street)\, go down the cascading stairs (on your left of the 3-story brown brick building). The pontoon boat will be docked at the wharf. \nWeather permitting. Reservations Required. Children under the age of 4 are not permitted on the pontoon boat. \nPURCHASE TICKETS
URL:https://buffalobayou.org/event/buffalo-bayou-cruise-port-to-port-4/
LOCATION:ALLEN’S LANDING\, 1001 Commerce Street\, Houston\, TX\, 77002\, United States
CATEGORIES:Port to Port
ATTACH;FMTTYPE=image/jpeg:https://buffalobayou.org/wp-content/uploads/2023/04/IMG_2052-Copy-2-scaled.jpg
END:VEVENT
BEGIN:VEVENT
DTSTART;TZID=America/Chicago:20241109T133000
DTEND;TZID=America/Chicago:20241109T150000
DTSTAMP:20260425T111916
CREATED:20240909T191943Z
LAST-MODIFIED:20240909T191943Z
UID:10003583-1731159000-1731164400@buffalobayou.org
SUMMARY:Buffalo Bayou Cruise: History
DESCRIPTION:Look back at Houston’s history while cruising Buffalo Bayou on a 90-minute tour with a local historian. Your guide will share stories of the Allen brothers and provide historical information about the people\, places\, and events along the bayou that helped shape Houston. \nCost: $40/person \nDeparture location: Allen’s Landing\, 1001 Commerce St.\, Houston\, TX 77002 \nWeather permitting. Reservations Required. Children under the age of 4 are not permitted on the pontoon boat. \nPURCHASE TICKETS
URL:https://buffalobayou.org/event/buffalo-bayou-cruise-history-6/
LOCATION:ALLEN’S LANDING\, 1001 Commerce Street\, Houston\, TX\, 77002\, United States
CATEGORIES:History Tours
ATTACH;FMTTYPE=image/jpeg:https://buffalobayou.org/wp-content/uploads/2023/04/Copy-of-AllensLanding-SS-Coffee.jpg
END:VEVENT
END:VCALENDAR