BEGIN:VCALENDAR
VERSION:2.0
PRODID:-//Buffalo Bayou Partnership - ECPv6.15.20//NONSGML v1.0//EN
CALSCALE:GREGORIAN
METHOD:PUBLISH
X-ORIGINAL-URL:https://buffalobayou.org
X-WR-CALDESC:Events for Buffalo Bayou Partnership
REFRESH-INTERVAL;VALUE=DURATION:PT1H
X-Robots-Tag:noindex
X-PUBLISHED-TTL:PT1H
BEGIN:VTIMEZONE
TZID:America/Chicago
BEGIN:DAYLIGHT
TZOFFSETFROM:-0600
TZOFFSETTO:-0500
TZNAME:CDT
DTSTART:20230312T080000
END:DAYLIGHT
BEGIN:STANDARD
TZOFFSETFROM:-0500
TZOFFSETTO:-0600
TZNAME:CST
DTSTART:20231105T070000
END:STANDARD
BEGIN:DAYLIGHT
TZOFFSETFROM:-0600
TZOFFSETTO:-0500
TZNAME:CDT
DTSTART:20240310T080000
END:DAYLIGHT
BEGIN:STANDARD
TZOFFSETFROM:-0500
TZOFFSETTO:-0600
TZNAME:CST
DTSTART:20241103T070000
END:STANDARD
BEGIN:DAYLIGHT
TZOFFSETFROM:-0600
TZOFFSETTO:-0500
TZNAME:CDT
DTSTART:20250309T080000
END:DAYLIGHT
BEGIN:STANDARD
TZOFFSETFROM:-0500
TZOFFSETTO:-0600
TZNAME:CST
DTSTART:20251102T070000
END:STANDARD
END:VTIMEZONE
BEGIN:VEVENT
DTSTART;TZID=America/Chicago:20241116T083000
DTEND;TZID=America/Chicago:20241116T113000
DTSTAMP:20260421T120658
CREATED:20240909T185921Z
LAST-MODIFIED:20241115T150215Z
UID:10003580-1731745800-1731756600@buffalobayou.org
SUMMARY:Monthly Volunteer Workday
DESCRIPTION:We have reached capacity for this volunteer event. Please check for future available dates. \nTime: 8:30 to 11:30 am\nParking: City Lot H\nCheck-In Location: Contact volunteer@buffalobayou.org for location details \nHoustonians\, ages 9 and up\, are invited to join Buffalo Bayou Partnership for community-wide volunteer days at Buffalo Bayou Park happening the third Saturday of each month. Whether volunteering as an individual or a small group\, your efforts will lead to a healthier environment and a more aesthetically pleasing amenity for all to enjoy. \nIndividuals can register by completing our online waiver. Small groups can reserve spaces and larger groups can schedule another day during the month by emailing volunteer@buffalobayou.org. \nVolunteers will help with a variety of tasks\, including but not limited to: trash pick-up\, mulching and weed removal. We do ask that all volunteers bring their own work gloves. All other necessary work tools will be provided by BBP. \nTo sign up\, please read the Volunteer Information packet and complete an online Volunteer Waiver with the event date. \nVolunteer Information Packet \nVolunteer Waiver \nQuestions? Contact Steve Parker by email (volunteer@buffalobayou.org) or by phone 713-752-0314 ext. 206.
URL:https://buffalobayou.org/event/monthly-volunteer-workday-20/
LOCATION:TX
CATEGORIES:Monthly Volunteer Day
ATTACH;FMTTYPE=image/jpeg:https://buffalobayou.org/wp-content/uploads/2024/09/IMG_6787.jpeg
END:VEVENT
BEGIN:VEVENT
DTSTART;TZID=America/Chicago:20241116T090000
DTEND;TZID=America/Chicago:20241116T103000
DTSTAMP:20260421T120658
CREATED:20240930T202554Z
LAST-MODIFIED:20240930T202554Z
UID:10003586-1731747600-1731753000@buffalobayou.org
SUMMARY:Nature Walking Tour
DESCRIPTION:Learn about native plants and the insects that pollinate them along Buffalo Bayou! Follow along this discovery tour of Houston’s historic waterway ecosystem with Nancy Greig\, founding director of the Cockrell Butterfly Center (now retired). An avid natural historian “jack of all trades”\, she has particular interest in plants and insects\, but birds\, mammals\, herps\, and fish are all on her radar.  At home she keeps busy with a butterfly garden\, honey bee hives\, and purple martin houses. \nREGISTER
URL:https://buffalobayou.org/event/nature-walking-tour-7/
LOCATION:bird-grasshopper
CATEGORIES:Walking Tours
ATTACH;FMTTYPE=image/jpeg:https://buffalobayou.org/wp-content/uploads/2024/02/Buffalo-Bayou-Park-Jonnu-Singleton-3508_presentation.jpg
END:VEVENT
BEGIN:VEVENT
DTSTART;TZID=America/Chicago:20241116T100000
DTEND;TZID=America/Chicago:20241116T140000
DTSTAMP:20260421T120658
CREATED:20240909T191816Z
LAST-MODIFIED:20240909T211531Z
UID:10003581-1731751200-1731765600@buffalobayou.org
SUMMARY:Buffalo Bayou Cruise
DESCRIPTION:These 45-minute boat rides are a great way to spend time with your family and friends. Escape the bustle of the city and enjoy the cool breeze as you glide along Buffalo Bayou\, through the heart of downtown Houston. Look for graceful herons\, turtles\, fish\, and even an occasional alligator on the banks. \nTours leave promptly on the hour beginning at 10am. The last tour departs at 1pm. \nCost: \n\nAdults: $15\nChildren: $12 (ages 4-12)\n\nDeparture location: Allen’s Landing\, 1019 Commerce St.\, Houston\, TX 77002 \nWeather permitting. Reservations Required. Children under the age of 4 are not permitted on the pontoon boat. \nPURCHASE TICKETS
URL:https://buffalobayou.org/event/buffalo-bayou-cruise-10/
LOCATION:ALLEN’S LANDING\, 1001 Commerce Street\, Houston\, TX\, 77002\, United States
CATEGORIES:Boat Tour,Buffalo Bayou Boat Tours
ATTACH;FMTTYPE=image/jpeg:https://buffalobayou.org/wp-content/uploads/2023/04/BBayou-4-1-scaled.jpg
END:VEVENT
END:VCALENDAR