BEGIN:VCALENDAR
VERSION:2.0
PRODID:-//Buffalo Bayou Partnership - ECPv6.15.20//NONSGML v1.0//EN
CALSCALE:GREGORIAN
METHOD:PUBLISH
X-WR-CALNAME:Buffalo Bayou Partnership
X-ORIGINAL-URL:https://buffalobayou.org
X-WR-CALDESC:Events for Buffalo Bayou Partnership
REFRESH-INTERVAL;VALUE=DURATION:PT1H
X-Robots-Tag:noindex
X-PUBLISHED-TTL:PT1H
BEGIN:VTIMEZONE
TZID:UTC
BEGIN:STANDARD
TZOFFSETFROM:+0000
TZOFFSETTO:+0000
TZNAME:UTC
DTSTART:20220101T000000
END:STANDARD
END:VTIMEZONE
BEGIN:VTIMEZONE
TZID:America/Chicago
BEGIN:DAYLIGHT
TZOFFSETFROM:-0600
TZOFFSETTO:-0500
TZNAME:CDT
DTSTART:20150308T080000
END:DAYLIGHT
BEGIN:STANDARD
TZOFFSETFROM:-0500
TZOFFSETTO:-0600
TZNAME:CST
DTSTART:20151101T070000
END:STANDARD
BEGIN:DAYLIGHT
TZOFFSETFROM:-0600
TZOFFSETTO:-0500
TZNAME:CDT
DTSTART:20160313T080000
END:DAYLIGHT
BEGIN:STANDARD
TZOFFSETFROM:-0500
TZOFFSETTO:-0600
TZNAME:CST
DTSTART:20161106T070000
END:STANDARD
BEGIN:DAYLIGHT
TZOFFSETFROM:-0600
TZOFFSETTO:-0500
TZNAME:CDT
DTSTART:20170312T080000
END:DAYLIGHT
BEGIN:STANDARD
TZOFFSETFROM:-0500
TZOFFSETTO:-0600
TZNAME:CST
DTSTART:20171105T070000
END:STANDARD
BEGIN:DAYLIGHT
TZOFFSETFROM:-0600
TZOFFSETTO:-0500
TZNAME:CDT
DTSTART:20180311T080000
END:DAYLIGHT
BEGIN:STANDARD
TZOFFSETFROM:-0500
TZOFFSETTO:-0600
TZNAME:CST
DTSTART:20181104T070000
END:STANDARD
BEGIN:DAYLIGHT
TZOFFSETFROM:-0600
TZOFFSETTO:-0500
TZNAME:CDT
DTSTART:20190310T080000
END:DAYLIGHT
BEGIN:STANDARD
TZOFFSETFROM:-0500
TZOFFSETTO:-0600
TZNAME:CST
DTSTART:20191103T070000
END:STANDARD
BEGIN:DAYLIGHT
TZOFFSETFROM:-0600
TZOFFSETTO:-0500
TZNAME:CDT
DTSTART:20200308T080000
END:DAYLIGHT
BEGIN:STANDARD
TZOFFSETFROM:-0500
TZOFFSETTO:-0600
TZNAME:CST
DTSTART:20201101T070000
END:STANDARD
BEGIN:DAYLIGHT
TZOFFSETFROM:-0600
TZOFFSETTO:-0500
TZNAME:CDT
DTSTART:20210314T080000
END:DAYLIGHT
BEGIN:STANDARD
TZOFFSETFROM:-0500
TZOFFSETTO:-0600
TZNAME:CST
DTSTART:20211107T070000
END:STANDARD
BEGIN:DAYLIGHT
TZOFFSETFROM:-0600
TZOFFSETTO:-0500
TZNAME:CDT
DTSTART:20220313T080000
END:DAYLIGHT
BEGIN:STANDARD
TZOFFSETFROM:-0500
TZOFFSETTO:-0600
TZNAME:CST
DTSTART:20221106T070000
END:STANDARD
BEGIN:DAYLIGHT
TZOFFSETFROM:-0600
TZOFFSETTO:-0500
TZNAME:CDT
DTSTART:20230312T080000
END:DAYLIGHT
BEGIN:STANDARD
TZOFFSETFROM:-0500
TZOFFSETTO:-0600
TZNAME:CST
DTSTART:20231105T070000
END:STANDARD
END:VTIMEZONE
BEGIN:VEVENT
DTSTART;TZID=UTC:20251106T183000
DTEND;TZID=UTC:20251106T223000
DTSTAMP:20260421T054454
CREATED:20250624T163453Z
LAST-MODIFIED:20251031T140618Z
UID:10003910-1762453800-1762468200@buffalobayou.org
SUMMARY:2025 Buffalo Bayou Partnership Gala: Milestones in Motion
DESCRIPTION:Co-Chairs: \nRichard P. Dawson\nLynn and Ty Kelly \n  \nJoin Buffalo Bayou Partnership for our annual gala on Thursday\, November 6th\, a memorable evening outdoors at Buffalo Bayou Park to celebrate our organization’s Milestones in Motion.  Guests will enjoy cocktails and a seated dinner underneath a spectacular tent on the lawn with stunning views of downtown Houston\, all in support of BBP’s forward motion towards a more connected and welcoming waterfront for all of Houston. \nThis year\, BBP is marking many important milestones—from the 10th anniversary of the transformation of Buffalo Bayou Park to significant progress realizing the Buffalo Bayou East 10-Year Plan including the completion of a new hike and bike trail segment\, new green space at the Lockwood on Buffalo Bayou affordable housing development\, and the first phase of our Turkey Bend site.  Your support of this year’s Gala will allow Buffalo Bayou Partnership to continue establishing and caring for a vital green space network along the waterway and lay the groundwork for many exciting milestones still to come. \nTables for ten guests are:  $25\,000; $15\,000; $10\,000; and $6\,500. \nIndividual tickets are: $1\,500; $1\,000; and $650. \n  \nCLICK HERE FOR TICKETS AND TABLES \nCLICK HERE FOR A RESPONSE FORM \n  \nFor more information\, please contact us at giving@buffalobayou.org. \n  \nAttire\nWear your most stylish sneakers and chic cocktail attire (no ties required!) \nEvent Parking\nValet parking will be at The Water Works in Buffalo Bayou Park\, 105-B Sabine Street\, Houston\, TX 77007.\nSelf-parking is available at City Lot H\, 1643 Memorial Drive\, Houston\, TX 77007. \n 
URL:https://buffalobayou.org/event/2025-buffalo-bayou-partnership-gala/
LOCATION:THE WATER WORKS\, 105 Sabine Street\, Houston\, TX\, 77007\, United States
CATEGORIES:BBP Gala,Fundraising Event
ATTACH;FMTTYPE=image/png:https://buffalobayou.org/wp-content/uploads/2025/06/183_BBPGala_DOrtizPhoto_110724-1.png
END:VEVENT
BEGIN:VEVENT
DTSTART;TZID=UTC:20241107T183000
DTEND;TZID=UTC:20241107T223000
DTSTAMP:20260421T054454
CREATED:20240626T213139Z
LAST-MODIFIED:20241107T180819Z
UID:10003508-1731004200-1731018600@buffalobayou.org
SUMMARY:2024 Buffalo Bayou Partnership Gala: Belonging on the Bayou
DESCRIPTION:Co-Chairs: \nJulie and Seth Barrett\nMarie Louise and David Kinder \n  \nJoin Buffalo Bayou Partnership on Thursday\, November 7th for this very special and fun evening at Buffalo Bayou Park. Guests will enjoy cocktails and a seated dinner overlooking downtown Houston\, and your participation will allow our non-profit organization to continue championing Belonging on the Bayou. Please consider taking part in this important fundraising event to ensure that the bayou remains a place where all living things—people\, wildlife\, plants\, and trees—feel a sense of belonging. \nTables for ten guests are: $25\,000; $15\,000; $10\,000; and $6\,500. Individual tickets are:  $1\,500; $1\,000; and $650. \nOnline ticket sales are now closed. Contact giving@buffalobayou.org should you need assistance. \n 
URL:https://buffalobayou.org/event/buffalo-bayou-partnership-gala-2024/
LOCATION:THE WATER WORKS\, 105 Sabine Street\, Houston\, TX\, 77007\, United States
CATEGORIES:BBP Gala
ATTACH;FMTTYPE=image/jpeg:https://buffalobayou.org/wp-content/uploads/2024/06/BBP_231102_016-scaled-e1719419322882.jpg
END:VEVENT
BEGIN:VEVENT
DTSTART;TZID=UTC:20231102T183000
DTEND;TZID=UTC:20231102T223000
DTSTAMP:20260421T054454
CREATED:20230501T125757Z
LAST-MODIFIED:20231016T205253Z
UID:10003249-1698949800-1698964200@buffalobayou.org
SUMMARY:Buffalo Bayou Partnership Gala
DESCRIPTION:Co-Chairs: \nGaynell Floyd Drexler\nLeigh Smith \nPlease join us on Thursday\, November 2nd for this very special and fun evening at Buffalo Bayou Park in support of BBP’s commitment to Branching Out Along Buffalo Bayou. Guests will enjoy cocktails and a seated dinner overlooking downtown Houston\, and your participation will allow our non-profit organization to connect more Houstonians to nature and to each other. \nTables for ten guests are: $25\,000; $15\,000; $10\,000; and $6\,500. Individual tickets are:  $1\,500; $1\,000; and $650. \nAttire: Sneaker Chic\n(Wear your stylish sneakers and chic cocktail attire!) \nPurchase Tickets \nOr click here for a response form.
URL:https://buffalobayou.org/event/buffalo-bayou-partnership-gala/
LOCATION:THE WATER WORKS\, 105 Sabine Street\, Houston\, TX\, 77007\, United States
CATEGORIES:BBP Gala
END:VEVENT
BEGIN:VEVENT
DTSTART;TZID=America/Chicago:20221103T183000
DTEND;TZID=America/Chicago:20221103T230000
DTSTAMP:20260421T054454
CREATED:20220803T191044Z
LAST-MODIFIED:20220803T191044Z
UID:10002923-1667500200-1667516400@buffalobayou.org
SUMMARY:2022 BBP Gala:  Breaking Ground Along the Bayou
DESCRIPTION:Please help us celebrate at the 2022 Buffalo Bayou Partnership Gala: BREAKING GROUND Along the Bayou. On this festive evening in Buffalo Bayou Park\, we will come together to raise our glasses to BBP’s ongoing efforts to establish and steward parks\, trails\, and unique spaces that unite communities all along the bayou. \nCo-Chairs:\nWendy Montoya Cloonan & Shawn W. Cloonan\nSonny Messiah-Jiles & Jodie L. Jiles \nThursday\, November 3\n6:30pm Cocktail Reception\n7:30pm Seated Dinner by A Fare Extraordinaire\n9:30pm Celebration:  DJ\, Dancing & Drinks on the Terrace \nLocation: The Water Works in Buffalo Bayou Park\, Valet Parking at 105 Sabine Street \nAttire:  Sneaker Soiree (You read that right!  Wear your stylish sneakers and chic cocktail attire.) \nProceeds from this important fundraising event allow Buffalo Bayou Partnership to continue transforming\, activating\, and maintaining Buffalo Bayou along the 10-mile stretch from Shepherd Drive to the Port of Houston Turning Basin. \nTables for ten guests are: $25\,000; $15\,000; $10\,000 and $6\,000. Individual tickets are:  $1\,500; $1\,000 and $600. Email Leigh McBurnett for more information or download a response form here. Click here to commit today! \nReserve Your Seat!
URL:https://buffalobayou.org/event/2022-bbp-gala-breaking-ground-on-the-bayou/
LOCATION:bird-grasshopper
CATEGORIES:BBP Gala
ATTACH;FMTTYPE=image/jpeg:https://buffalobayou.org/wp-content/uploads/2023/04/0433_BuffaloBayouGala_110217_MCW-small.jpg
END:VEVENT
BEGIN:VEVENT
DTSTART;TZID=America/Chicago:20211104T183000
DTEND;TZID=America/Chicago:20211104T220000
DTSTAMP:20260421T054454
CREATED:20210701T030141Z
LAST-MODIFIED:20210701T030141Z
UID:10002480-1636050600-1636063200@buffalobayou.org
SUMMARY:2021 Buffalo Bayou Partnership Gala: Connecting Houston
DESCRIPTION:You are invited to the 2021 Buffalo Bayou Partnership Gala\, Connecting Houston \nGuests will enjoy cocktails and a seated dinner on the beautiful lawn at The Water Works in Buffalo Bayou Park. This year’s event will honor BBP Board Members Rev. Harvey Clemons\, Jr.\, Anne Whitlock and Gloria Zenteno for their leadership in spearheading the organization’s diversity and equity initiatives and celebrate BBP’s dedication to creating and stewarding vibrant parks and trails for all Houstonians to enjoy. \nChairs: Bonner and George Ball \nDate: Thursday\, November 4\nTime: 6:30pm Cocktails / 7pm Seated Dinner on the Lawn\nLocation: Buffalo Bayou Park\, Valet Parking at 105 Sabine Street\nAttire: No ties\, no heels! \nProceeds from this important fundraising event allow Buffalo Bayou Partnership to continue transforming\, activating and maintaining Buffalo Bayou along the 10-mile stretch from Shepherd Drive to the Port of Houston Turning Basin. \n  \nTables for ten guests are: $25\,000; $15\,000; $10\,000 and $6\,000. Individual tickets are:  $1\,500; $1\,000 and $600. (The fair market value is $120 per person.) Email Leigh McBurnett for more information or click here for a response form. \nPurchase Tickets
URL:https://buffalobayou.org/event/2021-buffalo-bayou-partnership-gala-connections/
LOCATION:TX
CATEGORIES:BBP Gala
ATTACH;FMTTYPE=image/jpeg:https://buffalobayou.org/wp-content/uploads/2023/04/gala-cover-image.jpg
END:VEVENT
BEGIN:VEVENT
DTSTART;TZID=America/Chicago:20191107T183000
DTEND;TZID=America/Chicago:20191107T220000
DTSTAMP:20260421T054454
CREATED:20190131T210213Z
LAST-MODIFIED:20190131T210213Z
UID:10001949-1573151400-1573164000@buffalobayou.org
SUMMARY:CANCELLED DUE TO WEATHER: BBP 2019 Gala
DESCRIPTION:11/7 at 3pm: \n\nWe are very sad to report that because of rain\, tonight’s Buffalo Bayou Partnership Gala is cancelled. Due to the nature and size of this fundraising event\, we are unable to reschedule. On behalf of the Board and Staff of Buffalo Bayou Partnership and our Gala Co-Chairs\, Carolyn and Chris Dorros and Mary and David Wolff\, we are very sorry for this inconvenience.\n\n\n \n\n\nPlease know that the meals for tonight will be donated to Second Servings of Houston\, and the flower arrangements will be delivered to Texas Children’s Hospital.\n\n\nDate: Thursday\, November 7\nTime: 6:30pm Cocktails / 8pm Seated Dinner\nLocation: The Water Works in Buffalo Bayou Park \nAttire: Cocktail \nCo-Chairs: Carolyn and Chris Dorros and Mary and David Wolff \nPlease consider supporting the 2019 Buffalo Bayou Partnership Gala\, Moonscape. It will be a magical evening\, dining under a luminous tent on the beautiful lawn at The Water Works in Buffalo Bayou Park. To commemorate the 50th anniversary of the historic Apollo 11 moon landing\, this year’s gala will highlight the signature Lunar Cycle Lighting along Buffalo Bayou. \nThis illuminating celebration will support the ongoing care of Houston’s most significant natural resource and Buffalo Bayou Partnership’s vital programs and projects that enhance the quality of life for all in our city. Tables for ten guests are: $25\,000; $15\,000; $10\,000 and $6\,000. Individual tickets are:  $1\,500; $1\,000 and $600. \nCocktail-only tickets are available for $100 and can be purchased here. \nClick here for a response form.  For more information\, contact Leigh McBurnett\, BBP Director of Development\, at lmcburnett@buffalobayou.org or 713.752.0314 ext. 105. \n  \n \nPurchase Tickets Here
URL:https://buffalobayou.org/event/bbp-gala-2019/
LOCATION:bird-grasshopper
CATEGORIES:BBP Gala
ATTACH;FMTTYPE=image/jpeg:https://buffalobayou.org/wp-content/uploads/2023/04/Moonscape-Gala-Logo-2019.jpg
END:VEVENT
BEGIN:VEVENT
DTSTART;TZID=America/Chicago:20181108T183000
DTEND;TZID=America/Chicago:20181108T220000
DTSTAMP:20260421T054454
CREATED:20180127T031003Z
LAST-MODIFIED:20230422T171025Z
UID:10001777-1541701800-1541714400@buffalobayou.org
SUMMARY:BBP Gala: Color Outside the Lines
DESCRIPTION:You are invited to the 2018 Buffalo Bayou Partnership Gala! It will be a dazzling evening\, dining under a spectacular tent on the Sabine Street Bridge.  This year\, BBP is honoring the many colorful contributions of Judy Nyquist and Geraldina Wise to Buffalo Bayou Partnership and to the vitality and creativity of Houston. \nChair: Ellyn Wulfe \nDate: Thursday\, November 8\nTime: 6:30pm Cocktails / 8pm Seated Dinner\nLocation: Historic Sabine Street Bridge \nProceeds from this important fundraising event allow Buffalo Bayou Partnership to continue transforming\, activating and maintaining Buffalo Bayou along the 10-mile stretch from Shepherd Drive to the Port of Houston Turning Basin. \nTables for ten guests are: $25\,000; $15\,000; $10\,000 and $6\,000. Individual tickets are:  $1\,500; $1\,000 and $600. Click here for a response form. \nCocktail reception only tickets are available for $100. \n\nParking \nValet Parking will be at 105 Sabine Street.  Travel east on Memorial Drive towards downtown.  Exit Sabine Street.  Turn right on Sabine Street.  Valet parking located on your right-hand side. \nSelf-parking is available at City Lot H.  Travel east on Memorial Drive towards downtown.  Exit Sabine Street.  Stay in right-hand lane of feeder\, past Sabine Street\, turn right into Lot H (before Houston Avenue).  Please note:  No access from Allen Parkway. \nParking sponsored by: \n \n  \nFor additional information\, please contact Leigh McBurnett at 713.752.0314 ext. 105. \n2006 Buffalo Bayou Partnership Gala \n  \n  \n  \n2017 Buffalo Bayou Partnership Gala \nPurchase Tickets or Tables Here
URL:https://buffalobayou.org/event/bbp-gala-2018-2/
LOCATION:TX
CATEGORIES:BBP Gala
ATTACH;FMTTYPE=image/jpeg:https://buffalobayou.org/wp-content/uploads/2023/04/BBP-Logo-Final.jpg
END:VEVENT
BEGIN:VEVENT
DTSTART;TZID=America/Chicago:20181108T183000
DTEND;TZID=America/Chicago:20181108T220000
DTSTAMP:20260421T054454
CREATED:20180127T031003Z
LAST-MODIFIED:20180127T031003Z
UID:10002252-1541701800-1541714400@buffalobayou.org
SUMMARY:BBP Gala: Color Outside the Lines
DESCRIPTION:You are invited to the 2018 Buffalo Bayou Partnership Gala! It will be a dazzling evening\, dining under a spectacular tent on the Sabine Street Bridge.  This year\, BBP is honoring the many colorful contributions of Judy Nyquist and Geraldina Wise to Buffalo Bayou Partnership and to the vitality and creativity of Houston. \nChair: Ellyn Wulfe \nDate: Thursday\, November 8\nTime: 6:30pm Cocktails / 8pm Seated Dinner\nLocation: Historic Sabine Street Bridge \nProceeds from this important fundraising event allow Buffalo Bayou Partnership to continue transforming\, activating and maintaining Buffalo Bayou along the 10-mile stretch from Shepherd Drive to the Port of Houston Turning Basin. \nTables for ten guests are: $25\,000; $15\,000; $10\,000 and $6\,000. Individual tickets are:  $1\,500; $1\,000 and $600. Click here for a response form. \nCocktail reception only tickets are available for $100. \n\nParking \nValet Parking will be at 105 Sabine Street.  Travel east on Memorial Drive towards downtown.  Exit Sabine Street.  Turn right on Sabine Street.  Valet parking located on your right-hand side. \nSelf-parking is available at City Lot H.  Travel east on Memorial Drive towards downtown.  Exit Sabine Street.  Stay in right-hand lane of feeder\, past Sabine Street\, turn right into Lot H (before Houston Avenue).  Please note:  No access from Allen Parkway. \nParking sponsored by: \n \n  \nFor additional information\, please contact Leigh McBurnett at 713.752.0314 ext. 105. \n2006 Buffalo Bayou Partnership Gala \n  \n  \n  \n2017 Buffalo Bayou Partnership Gala \nPurchase Tickets or Tables Here
URL:https://buffalobayou.org/event/bbp-gala-2018/
LOCATION:TX
CATEGORIES:BBP Gala
ATTACH;FMTTYPE=image/jpeg:https://buffalobayou.org/wp-content/uploads/2023/04/BBP-Logo-Final.jpg
END:VEVENT
BEGIN:VEVENT
DTSTART;TZID=America/Chicago:20161110T183000
DTEND;TZID=America/Chicago:20161110T220000
DTSTAMP:20260421T054455
CREATED:20160524T193214Z
LAST-MODIFIED:20160524T193214Z
UID:10002033-1478802600-1478815200@buffalobayou.org
SUMMARY:BBP Gala: Leafing through the Years
DESCRIPTION:Join us as we celebrate Buffalo Bayou Partnership’s 30-year anniversary and look forward to its bright future! \n2016 Buffalo Bayou Partnership Gala Co-Chairs: \nZane and Brady Carruth \nGayle and Bob Eury \nLocation: The Water Works at Buffalo Bayou Park \nDate: Thursday\, November 10 \nTime: 6:30 Cocktails / 8:00 pm Seated Dinner \nTo purchase tickets ($600\, $1\,000\, or $1\,500) or a table ($6\,000\, $10\,000\, $15\,000 or $25\,000)\, click here. \nTo request a gala invitation or for questions\, please contact Trudi Smith at 713.752.0314 ext. 103. \n\nGetting There\n \n\n\nGala Cocktail Reception\nHave limited time\, but still want to enjoy the good company? Purchase a cocktail ticket and join us for passed hors d’oeuvres\, drinks and tours of the Buffalo Bayou Park Cistern!\n\n\nCost: $50\n\n\nTime: 6:30 to 8 pm only\n\n\n[button url=”https://app.etapestry.com/cart/BuffaloBayouPartnership/default/item.php?ref=1111.0.27971607″]Purchase Cocktail Tickets[/button]\n\n\n\nGala Raffle\nParticipate in our special raffle for a chance to win a lovely pastel\, Cumulus Clouds over Buffalo Bayou\, by Austin artist Wanda Gamble. Pastel on rag board. Framed. 46″ W X 56″ H. Value: $4\,500. \n$100 per raffle ticket. Raffle winner will be announced at the Gala; you do not need to be present to win. (Purchasing raffle tickets does not include entry to the BBP Gala.) \nProceeds from the raffle will support Buffalo Bayou Partnership’s general operations. \n[button url=”https://app.etapestry.com/cart/BuffaloBayouPartnership/default/item.php?ref=1111.0.14255657″]Purchase Raffle Tickets[/button]
URL:https://buffalobayou.org/event/bbp-gala-leafing-through-the-years/
LOCATION:bird-grasshopper
CATEGORIES:BBP Gala
ATTACH;FMTTYPE=image/jpeg:https://buffalobayou.org/wp-content/uploads/2023/04/BBP-Gala-2016.jpg
END:VEVENT
END:VCALENDAR