BEGIN:VCALENDAR
VERSION:2.0
PRODID:-//Buffalo Bayou Partnership - ECPv6.15.20//NONSGML v1.0//EN
CALSCALE:GREGORIAN
METHOD:PUBLISH
X-ORIGINAL-URL:https://buffalobayou.org
X-WR-CALDESC:Events for Buffalo Bayou Partnership
REFRESH-INTERVAL;VALUE=DURATION:PT1H
X-Robots-Tag:noindex
X-PUBLISHED-TTL:PT1H
BEGIN:VTIMEZONE
TZID:America/Chicago
BEGIN:DAYLIGHT
TZOFFSETFROM:-0600
TZOFFSETTO:-0500
TZNAME:CDT
DTSTART:20180311T080000
END:DAYLIGHT
BEGIN:STANDARD
TZOFFSETFROM:-0500
TZOFFSETTO:-0600
TZNAME:CST
DTSTART:20181104T070000
END:STANDARD
BEGIN:DAYLIGHT
TZOFFSETFROM:-0600
TZOFFSETTO:-0500
TZNAME:CDT
DTSTART:20190310T080000
END:DAYLIGHT
BEGIN:STANDARD
TZOFFSETFROM:-0500
TZOFFSETTO:-0600
TZNAME:CST
DTSTART:20191103T070000
END:STANDARD
BEGIN:DAYLIGHT
TZOFFSETFROM:-0600
TZOFFSETTO:-0500
TZNAME:CDT
DTSTART:20200308T080000
END:DAYLIGHT
BEGIN:STANDARD
TZOFFSETFROM:-0500
TZOFFSETTO:-0600
TZNAME:CST
DTSTART:20201101T070000
END:STANDARD
END:VTIMEZONE
BEGIN:VEVENT
DTSTART;TZID=America/Chicago:20190511T100000
DTEND;TZID=America/Chicago:20190511T140000
DTSTAMP:20260425T070431
CREATED:20190130T014424Z
LAST-MODIFIED:20190130T014424Z
UID:10003132-1557568800-1557583200@buffalobayou.org
SUMMARY:CANCELED: Buffalo Bayou Boat Tour
DESCRIPTION:Due to heavy rains\, this tour is canceled. \n\nThese 30-minute boat rides are a great way to spend the afternoon or evening with your family. Escape from the city and enjoy the cool breeze as you glide along Buffalo Bayou’s waters. Look for graceful herons\, jumping fish\, and even an occasional alligator sunning on the banks. \nBuffalo Bayou Boat Tours depart from Allen’s Landing\, 1001 Commerce St. Houston\, TX 77002. \n$7 for adults / $5 for children (age 4-12)* \n*Children under age 4 are not permitted on boat tours\n\nBuffalo Bayou Boat Tours run from 10am – 2pm with the last tour departing at 1:30 pm.\n\nReservations are required.
URL:https://buffalobayou.org/event/buffalo-bayou-boat-tour-2019-05-11/
LOCATION:Volunteer
CATEGORIES:Buffalo Bayou Boat Tours
ATTACH;FMTTYPE=image/jpeg:https://buffalobayou.org/wp-content/uploads/2023/04/BBayou-43097-scaled.jpg
END:VEVENT
BEGIN:VEVENT
DTSTART;TZID=America/Chicago:20190511T190500
DTEND;TZID=America/Chicago:20190511T203500
DTSTAMP:20260425T070431
CREATED:20190118T225812Z
LAST-MODIFIED:20230422T171252Z
UID:10002186-1557601500-1557606900@buffalobayou.org
SUMMARY:Waugh Bat Colony Boat Tour
DESCRIPTION:Due to heavy rains\, this tour is canceled. \n\nLearn more about these thousands of magnificent Mexican free-tailed bats that share the city with us! Led by a “bat girl” docent\, guests will enjoy an amazing view of the bats’ dusk emergence from the Waugh Drive Bridge on Buffalo Bayou. \nTime: Dusk – Boat departs 45 minutes before sunset (1½ hour boat rides) \nCost: $30 per person (children under 4 are not permitted on boat tours) \nWeather and water levels permitting. Reservations required. \nWaugh Bridge Bat Colony Q&A
URL:https://buffalobayou.org/event/waugh-bat-colony-boat-tour-7-2019-05-11/
LOCATION:Volunteer
CATEGORIES:Bat Colony Tours
ATTACH;FMTTYPE=image/jpeg:https://buffalobayou.org/wp-content/uploads/2023/04/Waugh-Bridge-Bat-Colony.jpg
END:VEVENT
BEGIN:VEVENT
DTSTART;TZID=America/Chicago:20190518T100000
DTEND;TZID=America/Chicago:20190518T113000
DTSTAMP:20260425T070431
CREATED:20181120T223327Z
LAST-MODIFIED:20230422T171215Z
UID:10002343-1558173600-1558179000@buffalobayou.org
SUMMARY:SOLD OUT: Looking Back History Boat Tours
DESCRIPTION:This tour is sold out. \n\nTime: 10 – 11:30 am \nCost: $40 per person (children under 4 are not permitted on boat tours) \nWeather permitting. Reservations must be made by selecting an available date on the right. \nAboard BBP’s pontoon boat\, take a look back to the late 1800s when Houston was founded with Louis Aulbach\, local historian and author of Buffalo Bayou: An Echo of Houston’s Wilderness Beginning or Andrew Groocock\, local historian. Hear stories of the Allen brothers and historical information about the people\, places and events along the bayou that helped shape Houston. \nTHIS BOAT TOUR WILL NOT DEPART FROM ALLEN’S LANDING.\nPlease meet at the boat dock at Championship Park at least 15 minutes before departure to ensure the boat departs on time. The physical address is 1001 Wood Street\, Houston\, TX 77002. \nPlease meet at 1001 Wood Street. Wood Street is between San Jacinto and Main Street (around the corner from Allen’s Landing and the UHD main Campus). There is meter parking on Wood Street and under I-10. There is large parking lot at 325 Main Street\, 77002 that is a 5-minute walk from the meeting location (visible on maps as Championship Park).\nTo access the area\, you will need to go through the 1001 UHD parking lot (very small lot of approx. 10 spaces) and walk along the concrete trails (to your left) – you will see very large steps leading down to the water. Follow these steps to meet the boat at the bayou’s edge.
URL:https://buffalobayou.org/event/looking-back-history-tours-2019-2019-05-18/
LOCATION:If you build it…
CATEGORIES:History Tours
ATTACH;FMTTYPE=image/jpeg:https://buffalobayou.org/wp-content/uploads/2023/04/Copy-of-AllensLanding-SS-Coffee-e1484851772677.jpg
END:VEVENT
BEGIN:VEVENT
DTSTART;TZID=America/Chicago:20190518T193000
DTEND;TZID=America/Chicago:20190518T210000
DTSTAMP:20260425T070431
CREATED:20190326T002723Z
LAST-MODIFIED:20190326T002723Z
UID:10002301-1558207800-1558213200@buffalobayou.org
SUMMARY:SOLD OUT: Waugh Bat Colony Boat Tour
DESCRIPTION:This tour is sold out. \n\nLearn more about these thousands of magnificent Mexican free-tailed bats that share the city with us! Led by a “bat girl” docent\, guests will enjoy an amazing view of the bats’ dusk emergence from the Waugh Drive Bridge on Buffalo Bayou. \nTime: Dusk – Boat departs 45 minutes before sunset (1½ hour boat rides) \nCost: $30 per person (children under 4 are not permitted on boat tours) \nWeather and water levels permitting. Reservations required. \nPlease meet at the boat dock at Championship Park at least 15 minutes before departure to ensure the boat departs on time.  The physical address is 1001 Wood Street\, Houston\, TX 77002.
URL:https://buffalobayou.org/event/waugh-bat-colony-boat-tour-7/
LOCATION:If you build it…
CATEGORIES:Bat Colony Tours
ATTACH;FMTTYPE=image/jpeg:https://buffalobayou.org/wp-content/uploads/2023/04/Waugh-Bridge-Bat-Colony.jpg
END:VEVENT
BEGIN:VEVENT
DTSTART;TZID=America/Chicago:20190525T100000
DTEND;TZID=America/Chicago:20190525T120000
DTSTAMP:20260425T070431
CREATED:20181120T042223Z
LAST-MODIFIED:20230422T171200Z
UID:10002226-1558778400-1558785600@buffalobayou.org
SUMMARY:Port to Port History Boat Tour
DESCRIPTION:Time: 10 am – 12 pm \nPrice: $45 \nThe Port to Port Tour is a cruise east of downtown on Buffalo Bayou from Allen’s Landing to the Port of Houston Turning Basin. \nIn 1914 with the opening of the Houston Ship Channel and the modern Port of Houston\, the section of Buffalo Bayou from the port’s turning basin to the foot of Main Street (now known as Allen’s Landing) was called the upper channel. \nVery few Houstonians today get to experience the upper channel by boat which has a very different environment from that of the bayou west of downtown. \nJoin bayou guide Andrew Groocock on a historical tour of the upper channel of Buffalo Bayou focusing on the historic significance of this industrial stretch and Houston\, as you cruise the approximately seven miles from the old port of Houston to the new port of Houston. \nPurchase Tickets
URL:https://buffalobayou.org/event/port-to-port-history-boat-tour-2019-2019-05-25/
LOCATION:Volunteer
CATEGORIES:Boat Tour
ATTACH;FMTTYPE=image/jpeg:https://buffalobayou.org/wp-content/uploads/2023/04/IMG_2052-Copy-scaled.jpg
END:VEVENT
BEGIN:VEVENT
DTSTART;TZID=America/Chicago:20190531T173000
DTEND;TZID=America/Chicago:20190531T203000
DTSTAMP:20260425T070431
CREATED:20190130T015212Z
LAST-MODIFIED:20190130T015212Z
UID:10001943-1559323800-1559334600@buffalobayou.org
SUMMARY:Twilight Tours
DESCRIPTION:These 30-minute boat rides are a great way to spend the evening with your family. Escape from the city and enjoy the cool breeze as you glide along Buffalo Bayou’s waters. Look for graceful herons\, jumping fish\, and even an occasional alligator on the banks. \nTime: 5:30pm – 8:30pm (30-minute boat rides)\nThe last tour departs at 8 pm.\nNote that boat tours depart promptly each half-hour.\n \nDeparture location: Allen’s Landing (1001 Commerce St. Houston\, Texas\, 77002) \nCost: $7 for adults/$5 for children (ages 4–12)* \n*Ages 4 and under not permitted on the pontoon boat. \nWeather permitting. Reservations Required. \nBuy Tickets
URL:https://buffalobayou.org/event/twilight-tours-2/
LOCATION:Volunteer
CATEGORIES:Twilight Tour
ATTACH;FMTTYPE=image/jpeg:https://buffalobayou.org/wp-content/uploads/2023/04/BBayou-43097-scaled.jpg
END:VEVENT
END:VCALENDAR