BEGIN:VCALENDAR
VERSION:2.0
PRODID:-//Buffalo Bayou Partnership - ECPv6.15.20//NONSGML v1.0//EN
CALSCALE:GREGORIAN
METHOD:PUBLISH
X-ORIGINAL-URL:https://buffalobayou.org
X-WR-CALDESC:Events for Buffalo Bayou Partnership
REFRESH-INTERVAL;VALUE=DURATION:PT1H
X-Robots-Tag:noindex
X-PUBLISHED-TTL:PT1H
BEGIN:VTIMEZONE
TZID:America/Chicago
BEGIN:DAYLIGHT
TZOFFSETFROM:-0600
TZOFFSETTO:-0500
TZNAME:CDT
DTSTART:20180311T080000
END:DAYLIGHT
BEGIN:STANDARD
TZOFFSETFROM:-0500
TZOFFSETTO:-0600
TZNAME:CST
DTSTART:20181104T070000
END:STANDARD
BEGIN:DAYLIGHT
TZOFFSETFROM:-0600
TZOFFSETTO:-0500
TZNAME:CDT
DTSTART:20190310T080000
END:DAYLIGHT
BEGIN:STANDARD
TZOFFSETFROM:-0500
TZOFFSETTO:-0600
TZNAME:CST
DTSTART:20191103T070000
END:STANDARD
BEGIN:DAYLIGHT
TZOFFSETFROM:-0600
TZOFFSETTO:-0500
TZNAME:CDT
DTSTART:20200308T080000
END:DAYLIGHT
BEGIN:STANDARD
TZOFFSETFROM:-0500
TZOFFSETTO:-0600
TZNAME:CST
DTSTART:20201101T070000
END:STANDARD
END:VTIMEZONE
BEGIN:VEVENT
DTSTART;TZID=America/Chicago:20190704T200000
DTEND;TZID=America/Chicago:20190704T220000
DTSTAMP:20260425T101404
CREATED:20190111T224649Z
LAST-MODIFIED:20190111T224649Z
UID:10002526-1562270400-1562277600@buffalobayou.org
SUMMARY:SOLD OUT: Bubbles and Fireworks Boat Ride
DESCRIPTION:Perfect views of Houston’s Spectacular Fireworks Show!  Avoid the crowds and view  the city’s fireworks extravaganza while floating along Buffalo Bayou and enjoying bubbly and light snacks. We can only accommodate 21 lucky guests\, so sign up now for this cruise! \nMake a Reservation
URL:https://buffalobayou.org/event/bubbles-and-fireworks-boat-ride/
LOCATION:Volunteer
CATEGORIES:Seasonal Cruises
ATTACH;FMTTYPE=image/jpeg:https://buffalobayou.org/wp-content/uploads/2023/04/july-4-fireworks.jpg
END:VEVENT
BEGIN:VEVENT
DTSTART;TZID=America/Chicago:20190706T190500
DTEND;TZID=America/Chicago:20190706T203500
DTSTAMP:20260425T101404
CREATED:20190118T225812Z
LAST-MODIFIED:20230422T171259Z
UID:10001799-1562439900-1562445300@buffalobayou.org
SUMMARY:SOLD OUT: Waugh Bat Colony Boat Tour
DESCRIPTION:This boat tour is sold out. \n\nLearn more about these thousands of magnificent Mexican free-tailed bats that share the city with us! Led by a “bat girl” docent\, guests will enjoy an amazing view of the bats’ dusk emergence from the Waugh Drive Bridge on Buffalo Bayou. \nTime: Dusk – Boat departs 45 minutes before sunset (1½ hour boat rides) \nCost: $30 per person (children under 4 are not permitted on boat tours) \nWeather and water levels permitting. Reservations required. \nWaugh Bridge Bat Colony Q&A
URL:https://buffalobayou.org/event/waugh-bat-colony-boat-tour-7-2019-07-06/
LOCATION:Volunteer
CATEGORIES:Bat Colony Tours
ATTACH;FMTTYPE=image/jpeg:https://buffalobayou.org/wp-content/uploads/2023/04/Waugh-Bridge-Bat-Colony.jpg
END:VEVENT
BEGIN:VEVENT
DTSTART;TZID=America/Chicago:20190713T194000
DTEND;TZID=America/Chicago:20190713T210000
DTSTAMP:20260425T101404
CREATED:20190118T225812Z
LAST-MODIFIED:20230422T171300Z
UID:10001929-1563046800-1563051600@buffalobayou.org
SUMMARY:Waugh Bat Colony Boat Tour
DESCRIPTION:Learn more about these thousands of magnificent Mexican free-tailed bats that share the city with us! Led by a “bat girl” docent\, guests will enjoy an amazing view of the bats’ dusk emergence from the Waugh Drive Bridge on Buffalo Bayou. \nTime: Dusk – Boat departs 45 minutes before sunset (1½ hour boat rides) \nCost: $30 per person (children under 4 are not permitted on boat tours) \nWeather and water levels permitting. Reservations required. \nWaugh Bridge Bat Colony Q&A
URL:https://buffalobayou.org/event/waugh-bat-colony-boat-tour-7-2019-07-13/
LOCATION:Volunteer
CATEGORIES:Bat Colony Tours
ATTACH;FMTTYPE=image/jpeg:https://buffalobayou.org/wp-content/uploads/2023/04/Waugh-Bridge-Bat-Colony.jpg
END:VEVENT
BEGIN:VEVENT
DTSTART;TZID=America/Chicago:20190727T090000
DTEND;TZID=America/Chicago:20190727T110000
DTSTAMP:20260425T101404
CREATED:20190628T025803Z
LAST-MODIFIED:20190628T025803Z
UID:10001977-1564218000-1564225200@buffalobayou.org
SUMMARY:Port to Port History Boat Tour
DESCRIPTION:Price: $45 \nThe Port to Port Tour is a cruise east of downtown on Buffalo Bayou from Allen’s Landing to the Port of Houston Turning Basin. \nIn 1914 with the opening of the Houston Ship Channel and the modern Port of Houston\, the section of Buffalo Bayou from the port’s turning basin to the foot of Main Street (now known as Allen’s Landing) was called the upper channel. \nVery few Houstonians today get to experience the upper channel by boat which has a very different environment from that of the bayou west of downtown. \nJoin bayou guide Andrew Groocock on a historical tour of the upper channel of Buffalo Bayou focusing on the historic significance of this industrial stretch and Houston\, as you cruise the approximately seven miles from the old port of Houston to the new port of Houston. \nPurchase tickets
URL:https://buffalobayou.org/event/port-to-port-history-boat-tour/
LOCATION:Volunteer
CATEGORIES:Boat Tour
ATTACH;FMTTYPE=image/jpeg:https://buffalobayou.org/wp-content/uploads/2023/04/IMG_2052-Copy-1-scaled.jpg
END:VEVENT
END:VCALENDAR