BEGIN:VCALENDAR
VERSION:2.0
PRODID:-//Buffalo Bayou Partnership - ECPv6.15.20//NONSGML v1.0//EN
CALSCALE:GREGORIAN
METHOD:PUBLISH
X-WR-CALNAME:Buffalo Bayou Partnership
X-ORIGINAL-URL:https://buffalobayou.org
X-WR-CALDESC:Events for Buffalo Bayou Partnership
REFRESH-INTERVAL;VALUE=DURATION:PT1H
X-Robots-Tag:noindex
X-PUBLISHED-TTL:PT1H
BEGIN:VTIMEZONE
TZID:America/Chicago
BEGIN:DAYLIGHT
TZOFFSETFROM:-0600
TZOFFSETTO:-0500
TZNAME:CDT
DTSTART:20200308T080000
END:DAYLIGHT
BEGIN:STANDARD
TZOFFSETFROM:-0500
TZOFFSETTO:-0600
TZNAME:CST
DTSTART:20201101T070000
END:STANDARD
BEGIN:DAYLIGHT
TZOFFSETFROM:-0600
TZOFFSETTO:-0500
TZNAME:CDT
DTSTART:20210314T080000
END:DAYLIGHT
BEGIN:STANDARD
TZOFFSETFROM:-0500
TZOFFSETTO:-0600
TZNAME:CST
DTSTART:20211107T070000
END:STANDARD
BEGIN:DAYLIGHT
TZOFFSETFROM:-0600
TZOFFSETTO:-0500
TZNAME:CDT
DTSTART:20220313T080000
END:DAYLIGHT
BEGIN:STANDARD
TZOFFSETFROM:-0500
TZOFFSETTO:-0600
TZNAME:CST
DTSTART:20221106T070000
END:STANDARD
END:VTIMEZONE
BEGIN:VEVENT
DTSTART;TZID=America/Chicago:20211002T090000
DTEND;TZID=America/Chicago:20211002T150000
DTSTAMP:20260424T064632
CREATED:20210826T000507Z
LAST-MODIFIED:20210826T000507Z
UID:10002116-1633165200-1633186800@buffalobayou.org
SUMMARY:BioArt Bayou-torium
DESCRIPTION:Artist Henry G. Sanchez’s BioArt Bayou-torium is a social\, mobile\, bilingual bio-art project housed in a shipping container. The Bayou-torium’s mission is to bring art and natural science activities to cultivate stewardship of the nature of Houston’s bayous to the bilingual and Spanish-speaking communities of the East End. Open to all ages\, the BioArt Bayou-torium’s life science and art making activities are inspired by the ecosystem of Buffalo Bayou. \n—— \nBioArt Bayou-torium del artista Henry G. Sánchez es un proyecto de bioarte social\, móvil y bilingüe situado en un contenedor de envío. La misión del Bayou-torium es llevar las actividades de arte y ciencias naturales a las comunidades bilingües y de habla hispana del East End. Abierto a todas las edades\, las actividades de ciencias naturales y creación de arte del BioArt Bayou-torium están inspiradas en el ecosistema de Buffalo Bayou. \n  \n \n  \nGenerous support for Buffalo Bayou Partnership’s Fall/Winter 2021 Programs provided by Vivian L. Smith Foundation. BBP is funded in part by the City of Houston through Houston Arts Alliance.
URL:https://buffalobayou.org/event/bioart-bayou-torium-2021-10-02/
LOCATION:FullSizeRender-2
CATEGORIES:Buffalo Bayou Art,Buffalo Bayou East
ATTACH;FMTTYPE=image/jpeg:https://buffalobayou.org/wp-content/uploads/2023/04/Bayou-torium4-21-1920-scaled-1.jpg
END:VEVENT
BEGIN:VEVENT
DTSTART;TZID=America/Chicago:20211003T090000
DTEND;TZID=America/Chicago:20211003T150000
DTSTAMP:20260424T064632
CREATED:20210826T000507Z
LAST-MODIFIED:20210826T000507Z
UID:10002117-1633251600-1633273200@buffalobayou.org
SUMMARY:BioArt Bayou-torium
DESCRIPTION:Artist Henry G. Sanchez’s BioArt Bayou-torium is a social\, mobile\, bilingual bio-art project housed in a shipping container. The Bayou-torium’s mission is to bring art and natural science activities to cultivate stewardship of the nature of Houston’s bayous to the bilingual and Spanish-speaking communities of the East End. Open to all ages\, the BioArt Bayou-torium’s life science and art making activities are inspired by the ecosystem of Buffalo Bayou. \n—— \nBioArt Bayou-torium del artista Henry G. Sánchez es un proyecto de bioarte social\, móvil y bilingüe situado en un contenedor de envío. La misión del Bayou-torium es llevar las actividades de arte y ciencias naturales a las comunidades bilingües y de habla hispana del East End. Abierto a todas las edades\, las actividades de ciencias naturales y creación de arte del BioArt Bayou-torium están inspiradas en el ecosistema de Buffalo Bayou. \n  \n \n  \nGenerous support for Buffalo Bayou Partnership’s Fall/Winter 2021 Programs provided by Vivian L. Smith Foundation. BBP is funded in part by the City of Houston through Houston Arts Alliance.
URL:https://buffalobayou.org/event/bioart-bayou-torium-2021-10-03/
LOCATION:FullSizeRender-2
CATEGORIES:Buffalo Bayou Art,Buffalo Bayou East
ATTACH;FMTTYPE=image/jpeg:https://buffalobayou.org/wp-content/uploads/2023/04/Bayou-torium4-21-1920-scaled-1.jpg
END:VEVENT
BEGIN:VEVENT
DTSTART;TZID=America/Chicago:20211009T090000
DTEND;TZID=America/Chicago:20211009T110000
DTSTAMP:20260424T064632
CREATED:20210419T193011Z
LAST-MODIFIED:20210419T193011Z
UID:10002508-1633770000-1633777200@buffalobayou.org
SUMMARY:Buffalo Bayou East Wellness Walk
DESCRIPTION:Join Buffalo Bayou Partnership on a free Wellness Walk along Buffalo Bayou East led by Laura Conely\, founder of Urban Paths Wellness Coaching. Discover the historic East End neighborhood and learn more about the Buffalo Bayou East Master Plan.  We will be stopping at sites that will be transformed into parks and unique destinations. \nThis scenic urban trail follows along Buffalo Bayou and is a combination of pavement\, dirt\, and gravel. Wear durable yet comfortable shoes\, bring drinking water and wearing a mask is encouraged.  Please note this tour has limited capacity. \nWe will depart from Guadalupe Park (2311 Runnels Street\, 77003\, at Jensen and Navigation) and will cover approximately 3 miles. \nRegister
URL:https://buffalobayou.org/event/buffalo-bayou-east-wellness-walk-2-2021-10-09/
LOCATION:Bat Boat Tour
CATEGORIES:Buffalo Bayou East,Walking Tours
ATTACH;FMTTYPE=image/png:https://buffalobayou.org/wp-content/uploads/2023/04/Buffalo-Bayou-East-Walk-2021.png
END:VEVENT
BEGIN:VEVENT
DTSTART;TZID=America/Chicago:20211009T090000
DTEND;TZID=America/Chicago:20211009T150000
DTSTAMP:20260424T064632
CREATED:20210826T000507Z
LAST-MODIFIED:20210826T000507Z
UID:10002118-1633770000-1633791600@buffalobayou.org
SUMMARY:BioArt Bayou-torium
DESCRIPTION:Artist Henry G. Sanchez’s BioArt Bayou-torium is a social\, mobile\, bilingual bio-art project housed in a shipping container. The Bayou-torium’s mission is to bring art and natural science activities to cultivate stewardship of the nature of Houston’s bayous to the bilingual and Spanish-speaking communities of the East End. Open to all ages\, the BioArt Bayou-torium’s life science and art making activities are inspired by the ecosystem of Buffalo Bayou. \n—— \nBioArt Bayou-torium del artista Henry G. Sánchez es un proyecto de bioarte social\, móvil y bilingüe situado en un contenedor de envío. La misión del Bayou-torium es llevar las actividades de arte y ciencias naturales a las comunidades bilingües y de habla hispana del East End. Abierto a todas las edades\, las actividades de ciencias naturales y creación de arte del BioArt Bayou-torium están inspiradas en el ecosistema de Buffalo Bayou. \n  \n \n  \nGenerous support for Buffalo Bayou Partnership’s Fall/Winter 2021 Programs provided by Vivian L. Smith Foundation. BBP is funded in part by the City of Houston through Houston Arts Alliance.
URL:https://buffalobayou.org/event/bioart-bayou-torium-2021-10-09/
LOCATION:FullSizeRender-2
CATEGORIES:Buffalo Bayou Art,Buffalo Bayou East
ATTACH;FMTTYPE=image/jpeg:https://buffalobayou.org/wp-content/uploads/2023/04/Bayou-torium4-21-1920-scaled-1.jpg
END:VEVENT
BEGIN:VEVENT
DTSTART;TZID=America/Chicago:20211010T090000
DTEND;TZID=America/Chicago:20211010T150000
DTSTAMP:20260424T064632
CREATED:20210826T000507Z
LAST-MODIFIED:20210826T000507Z
UID:10002119-1633856400-1633878000@buffalobayou.org
SUMMARY:BioArt Bayou-torium
DESCRIPTION:Artist Henry G. Sanchez’s BioArt Bayou-torium is a social\, mobile\, bilingual bio-art project housed in a shipping container. The Bayou-torium’s mission is to bring art and natural science activities to cultivate stewardship of the nature of Houston’s bayous to the bilingual and Spanish-speaking communities of the East End. Open to all ages\, the BioArt Bayou-torium’s life science and art making activities are inspired by the ecosystem of Buffalo Bayou. \n—— \nBioArt Bayou-torium del artista Henry G. Sánchez es un proyecto de bioarte social\, móvil y bilingüe situado en un contenedor de envío. La misión del Bayou-torium es llevar las actividades de arte y ciencias naturales a las comunidades bilingües y de habla hispana del East End. Abierto a todas las edades\, las actividades de ciencias naturales y creación de arte del BioArt Bayou-torium están inspiradas en el ecosistema de Buffalo Bayou. \n  \n \n  \nGenerous support for Buffalo Bayou Partnership’s Fall/Winter 2021 Programs provided by Vivian L. Smith Foundation. BBP is funded in part by the City of Houston through Houston Arts Alliance.
URL:https://buffalobayou.org/event/bioart-bayou-torium-2021-10-10/
LOCATION:FullSizeRender-2
CATEGORIES:Buffalo Bayou Art,Buffalo Bayou East
ATTACH;FMTTYPE=image/jpeg:https://buffalobayou.org/wp-content/uploads/2023/04/Bayou-torium4-21-1920-scaled-1.jpg
END:VEVENT
BEGIN:VEVENT
DTSTART;TZID=America/Chicago:20211016T090000
DTEND;TZID=America/Chicago:20211016T150000
DTSTAMP:20260424T064632
CREATED:20210826T000507Z
LAST-MODIFIED:20210826T000507Z
UID:10002120-1634374800-1634396400@buffalobayou.org
SUMMARY:BioArt Bayou-torium
DESCRIPTION:Artist Henry G. Sanchez’s BioArt Bayou-torium is a social\, mobile\, bilingual bio-art project housed in a shipping container. The Bayou-torium’s mission is to bring art and natural science activities to cultivate stewardship of the nature of Houston’s bayous to the bilingual and Spanish-speaking communities of the East End. Open to all ages\, the BioArt Bayou-torium’s life science and art making activities are inspired by the ecosystem of Buffalo Bayou. \n—— \nBioArt Bayou-torium del artista Henry G. Sánchez es un proyecto de bioarte social\, móvil y bilingüe situado en un contenedor de envío. La misión del Bayou-torium es llevar las actividades de arte y ciencias naturales a las comunidades bilingües y de habla hispana del East End. Abierto a todas las edades\, las actividades de ciencias naturales y creación de arte del BioArt Bayou-torium están inspiradas en el ecosistema de Buffalo Bayou. \n  \n \n  \nGenerous support for Buffalo Bayou Partnership’s Fall/Winter 2021 Programs provided by Vivian L. Smith Foundation. BBP is funded in part by the City of Houston through Houston Arts Alliance.
URL:https://buffalobayou.org/event/bioart-bayou-torium-2021-10-16/
LOCATION:FullSizeRender-2
CATEGORIES:Buffalo Bayou Art,Buffalo Bayou East
ATTACH;FMTTYPE=image/jpeg:https://buffalobayou.org/wp-content/uploads/2023/04/Bayou-torium4-21-1920-scaled-1.jpg
END:VEVENT
BEGIN:VEVENT
DTSTART;TZID=America/Chicago:20211017T090000
DTEND;TZID=America/Chicago:20211017T150000
DTSTAMP:20260424T064632
CREATED:20210826T000507Z
LAST-MODIFIED:20210826T000507Z
UID:10002580-1634461200-1634482800@buffalobayou.org
SUMMARY:BioArt Bayou-torium
DESCRIPTION:Artist Henry G. Sanchez’s BioArt Bayou-torium is a social\, mobile\, bilingual bio-art project housed in a shipping container. The Bayou-torium’s mission is to bring art and natural science activities to cultivate stewardship of the nature of Houston’s bayous to the bilingual and Spanish-speaking communities of the East End. Open to all ages\, the BioArt Bayou-torium’s life science and art making activities are inspired by the ecosystem of Buffalo Bayou. \n—— \nBioArt Bayou-torium del artista Henry G. Sánchez es un proyecto de bioarte social\, móvil y bilingüe situado en un contenedor de envío. La misión del Bayou-torium es llevar las actividades de arte y ciencias naturales a las comunidades bilingües y de habla hispana del East End. Abierto a todas las edades\, las actividades de ciencias naturales y creación de arte del BioArt Bayou-torium están inspiradas en el ecosistema de Buffalo Bayou. \n  \n \n  \nGenerous support for Buffalo Bayou Partnership’s Fall/Winter 2021 Programs provided by Vivian L. Smith Foundation. BBP is funded in part by the City of Houston through Houston Arts Alliance.
URL:https://buffalobayou.org/event/bioart-bayou-torium-2021-10-17/
LOCATION:FullSizeRender-2
CATEGORIES:Buffalo Bayou Art,Buffalo Bayou East
ATTACH;FMTTYPE=image/jpeg:https://buffalobayou.org/wp-content/uploads/2023/04/Bayou-torium4-21-1920-scaled-1.jpg
END:VEVENT
END:VCALENDAR