BEGIN:VCALENDAR
VERSION:2.0
PRODID:-//Buffalo Bayou Partnership - ECPv6.15.20//NONSGML v1.0//EN
CALSCALE:GREGORIAN
METHOD:PUBLISH
X-WR-CALNAME:Buffalo Bayou Partnership
X-ORIGINAL-URL:https://buffalobayou.org
X-WR-CALDESC:Events for Buffalo Bayou Partnership
REFRESH-INTERVAL;VALUE=DURATION:PT1H
X-Robots-Tag:noindex
X-PUBLISHED-TTL:PT1H
BEGIN:VTIMEZONE
TZID:America/Chicago
BEGIN:DAYLIGHT
TZOFFSETFROM:-0600
TZOFFSETTO:-0500
TZNAME:CDT
DTSTART:20250309T080000
END:DAYLIGHT
BEGIN:STANDARD
TZOFFSETFROM:-0500
TZOFFSETTO:-0600
TZNAME:CST
DTSTART:20251102T070000
END:STANDARD
BEGIN:DAYLIGHT
TZOFFSETFROM:-0600
TZOFFSETTO:-0500
TZNAME:CDT
DTSTART:20260308T080000
END:DAYLIGHT
BEGIN:STANDARD
TZOFFSETFROM:-0500
TZOFFSETTO:-0600
TZNAME:CST
DTSTART:20261101T070000
END:STANDARD
BEGIN:DAYLIGHT
TZOFFSETFROM:-0600
TZOFFSETTO:-0500
TZNAME:CDT
DTSTART:20270314T080000
END:DAYLIGHT
BEGIN:STANDARD
TZOFFSETFROM:-0500
TZOFFSETTO:-0600
TZNAME:CST
DTSTART:20271107T070000
END:STANDARD
END:VTIMEZONE
BEGIN:VEVENT
DTSTART;TZID=America/Chicago:20260430T183000
DTEND;TZID=America/Chicago:20260430T193000
DTSTAMP:20260420T104932
CREATED:20260408T163328Z
LAST-MODIFIED:20260408T182813Z
UID:10004122-1777573800-1777577400@buffalobayou.org
SUMMARY:Undercurrents: Reading with Nick Flynn
DESCRIPTION:Experience an evening of poetry and immersive art with acclaimed writer Nick Flynn\, presented in conjunction with Undercurrents by Rafael Lozano-Hemmer. The program begins with a reading on the terrace above the Buffalo Bayou Park Cistern\, followed by a guided tour of the installation—offering a unique opportunity to experience the artwork alongside the poet’s words. \nStay tuned – more readings to come. \nCost\nStarting at $20 \nDuration\n6:30-7:30 PM / 1 hour \nLocation\nThe reading begins on the Wortham Insurance Terrace above the Buffalo Bayou Park Cistern. (105-B Sabine St) \n  \nPURCHASE TICKETS \n  \nAbout Nick Flynn \nNick Flynn teaches in the Creative Writing Program at the University of Houston. His most recent book is Low (Graywolf\, 2023). His book Stay (Ze Books\, 2020) chronicles his work with other artists (filmmakers\, visual artists\, musicians\, etc) over the past twenty-five years. His bestselling memoir Another Bullshit Night in Suck City (Norton\, 2004) was made into a film starring Robert DeNiro (Focus Features\, 2012) and has been translated into fifteen languages.
URL:https://buffalobayou.org/event/undercurrents-reading-with-nick-flynn-2026/
LOCATION:THE WATER WORKS\, 105 Sabine Street\, Houston\, TX\, 77007\, United States
CATEGORIES:Cistern,Events at Buffalo Bayou Park
ATTACH;FMTTYPE=image/jpeg:https://buffalobayou.org/wp-content/uploads/2026/04/Nick-Flyn_Credit-Ryan-McGinley.jpg
END:VEVENT
END:VCALENDAR