BEGIN:VCALENDAR
VERSION:2.0
PRODID:-//Buffalo Bayou Partnership - ECPv6.15.20//NONSGML v1.0//EN
CALSCALE:GREGORIAN
METHOD:PUBLISH
X-WR-CALNAME:Buffalo Bayou Partnership
X-ORIGINAL-URL:https://buffalobayou.org
X-WR-CALDESC:Events for Buffalo Bayou Partnership
REFRESH-INTERVAL;VALUE=DURATION:PT1H
X-Robots-Tag:noindex
X-PUBLISHED-TTL:PT1H
BEGIN:VTIMEZONE
TZID:UTC
BEGIN:STANDARD
TZOFFSETFROM:+0000
TZOFFSETTO:+0000
TZNAME:UTC
DTSTART:20220101T000000
END:STANDARD
END:VTIMEZONE
BEGIN:VEVENT
DTSTART;TZID=UTC:20230621T183000
DTEND;TZID=UTC:20230621T193000
DTSTAMP:20260424T211809
CREATED:20230605T194941Z
LAST-MODIFIED:20230605T194941Z
UID:10003261-1687372200-1687375800@buffalobayou.org
SUMMARY:BBP Summer Species Member Happy Hour
DESCRIPTION:Come enjoy lite bites and drinks on the Georgia James Rooftop at this Member Happy Hour celebrating Birds – our Summer Species! \nMeet Dr. Kelsey Biles\, Conservation Director of Houston Audubon\, and learn more about avian ecology and the local birds in the Houston region in an exclusive “Ask Anything” session! \n\nYour RSVP includes: \n\nOne complimentary cocktail per guest\nLite bites\nFree Parking:\nRegent Square Parking Garage.\nValet is available at the owner’s expense.\n\nNot a member? Become a BBP Member at any level to join this event and others throughout the year! \nRegister
URL:https://buffalobayou.org/event/bbp-summer-species-member-happy-hour/
LOCATION:Georgia James Tavern\, 737 Preston St.\, Houston\, 1\, 77002\, United States
CATEGORIES:Happy Hour,Member Event
ATTACH;FMTTYPE=image/png:https://buffalobayou.org/wp-content/uploads/2023/06/Items-BBP-Member-Summer-Species-Happy-Hour-Buffalo-Bayou-Partnership.png
END:VEVENT
END:VCALENDAR