BEGIN:VCALENDAR
VERSION:2.0
PRODID:-//Buffalo Bayou Partnership - ECPv6.15.20//NONSGML v1.0//EN
CALSCALE:GREGORIAN
METHOD:PUBLISH
X-WR-CALNAME:Buffalo Bayou Partnership
X-ORIGINAL-URL:https://buffalobayou.org
X-WR-CALDESC:Events for Buffalo Bayou Partnership
REFRESH-INTERVAL;VALUE=DURATION:PT1H
X-Robots-Tag:noindex
X-PUBLISHED-TTL:PT1H
BEGIN:VTIMEZONE
TZID:UTC
BEGIN:STANDARD
TZOFFSETFROM:+0000
TZOFFSETTO:+0000
TZNAME:UTC
DTSTART:20220101T000000
END:STANDARD
END:VTIMEZONE
BEGIN:VEVENT
DTSTART;TZID=UTC:20230610T090000
DTEND;TZID=UTC:20230610T103000
DTSTAMP:20260425T064709
CREATED:20230430T204629Z
LAST-MODIFIED:20230606T214544Z
UID:10002626-1686387600-1686393000@buffalobayou.org
SUMMARY:Birding Walk at Buffalo Bend Nature Park
DESCRIPTION:Discover the diversity of birdlife with a guided walking tour along Buffalo Bayou at Yoland Black Navarro Buffalo Bend Nature Park (2300 S. Sgt. Macario Garcia Drive). Expert guides will help you spot and identify a variety of species and share fascinating insights into their behavior and habitat. \nWe encourage you to wear comfortable shoes and bring water and binoculars. Limited binoculars will be available. \nCost: $5 \nFree for children under the age of 12\, BBP Members\, and members of Houston Audubon. \nPurchase Tickets
URL:https://buffalobayou.org/event/birding-walk-in-buffalo-bayou-east-3/
LOCATION:YOLANDA BLACK NAVARRO BUFFALO BEND NATURE PARK
CATEGORIES:Summer Species,Walking Tour
ATTACH;FMTTYPE=image/jpeg:https://buffalobayou.org/wp-content/uploads/2023/04/Great-Egret_150312-5500_By-Victor-Lee-Jones-1-scaled.jpg
END:VEVENT
END:VCALENDAR