BEGIN:VCALENDAR
VERSION:2.0
PRODID:-//Buffalo Bayou Partnership - ECPv6.15.20//NONSGML v1.0//EN
CALSCALE:GREGORIAN
METHOD:PUBLISH
X-ORIGINAL-URL:https://buffalobayou.org
X-WR-CALDESC:Events for Buffalo Bayou Partnership
REFRESH-INTERVAL;VALUE=DURATION:PT1H
X-Robots-Tag:noindex
X-PUBLISHED-TTL:PT1H
BEGIN:VTIMEZONE
TZID:UTC
BEGIN:STANDARD
TZOFFSETFROM:+0000
TZOFFSETTO:+0000
TZNAME:UTC
DTSTART:20240101T000000
END:STANDARD
END:VTIMEZONE
BEGIN:VTIMEZONE
TZID:America/Chicago
BEGIN:DAYLIGHT
TZOFFSETFROM:-0600
TZOFFSETTO:-0500
TZNAME:CDT
DTSTART:20240310T080000
END:DAYLIGHT
BEGIN:STANDARD
TZOFFSETFROM:-0500
TZOFFSETTO:-0600
TZNAME:CST
DTSTART:20241103T070000
END:STANDARD
BEGIN:DAYLIGHT
TZOFFSETFROM:-0600
TZOFFSETTO:-0500
TZNAME:CDT
DTSTART:20250309T080000
END:DAYLIGHT
BEGIN:STANDARD
TZOFFSETFROM:-0500
TZOFFSETTO:-0600
TZNAME:CST
DTSTART:20251102T070000
END:STANDARD
BEGIN:DAYLIGHT
TZOFFSETFROM:-0600
TZOFFSETTO:-0500
TZNAME:CDT
DTSTART:20260308T080000
END:DAYLIGHT
BEGIN:STANDARD
TZOFFSETFROM:-0500
TZOFFSETTO:-0600
TZNAME:CST
DTSTART:20261101T070000
END:STANDARD
END:VTIMEZONE
BEGIN:VEVENT
DTSTART;TZID=UTC:20251102T100000
DTEND;TZID=UTC:20251102T140000
DTSTAMP:20260425T113018
CREATED:20250923T171923Z
LAST-MODIFIED:20251030T165551Z
UID:10003997-1762077600-1762092000@buffalobayou.org
SUMMARY:2025 Houston Witch Paddle
DESCRIPTION:**Rescheduled for Sunday\, November 2** \nInspired by the growing popularity of “witch paddles” nationwide\, Taylor Chapman and New Climate Ventures are hosting Houston’s second annual Witch Paddle. Wear your finest Halloween witch or wizard attire and paddle down Buffalo Bayou! \nDuration\n10am – 2pm / 3.5 miles \nMeeting Location\nAllen’s Landing Park (1005 Commerce St) \nFREE REGISTRATION \nBuffalo Bayou Partnership is in support of the Second Annual Houston Witch Paddle. Rain date is Sunday\, October 26. \nKayak Rentals: Buffalo Bayou Kayak Tours \n2024 Witch Paddle – Photo by Peter Warren\, Houston Chronicle.
URL:https://buffalobayou.org/event/2025-houston-witch-paddle/
LOCATION:ALLEN’S LANDING\, 1001 Commerce Street\, Houston\, TX\, 77002\, United States
CATEGORIES:Free,Nature Event,Wellness
ATTACH;FMTTYPE=image/jpeg:https://buffalobayou.org/wp-content/uploads/2025/09/2025-Houston-Witch-Paddle.jpg
END:VEVENT
BEGIN:VEVENT
DTSTART;TZID=America/Chicago:20251105T180000
DTEND;TZID=America/Chicago:20251105T184500
DTSTAMP:20260425T113018
CREATED:20250903T203536Z
LAST-MODIFIED:20250903T203536Z
UID:10003975-1762365600-1762368300@buffalobayou.org
SUMMARY:Light and Sound Immersion Meditation in the Cistern
DESCRIPTION:Light & Sound Immersion in the Cistern is a restorative evening sound healing meditation set within the Buffalo Bayou Park Cistern’s reverberant chambers. \nSaumil Manek of Union is Creation produces resonant tones and harmonics while shifting light patterns by Kelly O’Brien of Fenris create a serene\, dreamlike atmosphere. This unique experience invites deep relaxation\, inner stillness\, and a heightened connection to the senses. \nGuests should bring their own cushions or mats. For sensitive hearing\, guests may enjoy the experience with earplugs. No food or drinks are allowed inside the Cistern. \nCost: $25 \nPURCHASE TICKETS
URL:https://buffalobayou.org/event/light-and-sound-immersion-meditation-in-the-cistern-2/
LOCATION:BUFFALO BAYOU PARK CISTERN\, 105 Sabine Street\, Houston\, TX\, 77007\, United States
CATEGORIES:Cistern,Wellness
ATTACH;FMTTYPE=image/jpeg:https://buffalobayou.org/wp-content/uploads/2023/04/IMG_0443-scaled-1.jpg
END:VEVENT
BEGIN:VEVENT
DTSTART;TZID=UTC:20251105T183000
DTEND;TZID=UTC:20251105T200000
DTSTAMP:20260425T113018
CREATED:20250903T204717Z
LAST-MODIFIED:20251001T220327Z
UID:10003985-1762367400-1762372800@buffalobayou.org
SUMMARY:Buffalo Bayou Park Wellness Walk
DESCRIPTION:Join Buffalo Bayou Partnership and Citizens Environmental Coalition (CEC) on a free Wellness Walk led by Laura Conely\, founder of Urban Paths. Anyone and everyone is invited to walk through the paths of Buffalo Bayou Park while discussing topics including mental and physical health as well as the benefits of being exposed to nature. \nEn Español\nEl primer miércoles de cada mes\, la traductora Marcella Cabrera se unirá al grupo para ofrecer la caminata guiada en español. \nCost\nFree \nDuration\n90 minutes / 3 miles \nMeeting Location\nThe Water Works in Buffalo Bayou Park (105-B Sabine St) \nFREE REGISTRATION
URL:https://buffalobayou.org/event/2025-buffalo-bayou-park-wellness-walk-94/
LOCATION:THE WATER WORKS\, 105 Sabine Street\, Houston\, TX\, 77007\, United States
CATEGORIES:Walking Tour,Wellness
ATTACH;FMTTYPE=image/jpeg:https://buffalobayou.org/wp-content/uploads/2024/09/Buffalo-Bayou-Park_Summer-Series-Butterfly-Nature-Walk_5.18.2024_Photographer-Melissa-Taylor-115-scaled.jpg
END:VEVENT
BEGIN:VEVENT
DTSTART;TZID=UTC:20251108T090000
DTEND;TZID=UTC:20251108T103000
DTSTAMP:20260425T113018
CREATED:20250805T172323Z
LAST-MODIFIED:20250917T145455Z
UID:10003938-1762592400-1762597800@buffalobayou.org
SUMMARY:Bayou Roots Walking Tour
DESCRIPTION:Head to the heart of downtown to discover the history of Buffalo Bayou and Houston! \nThis engaging walking tour explores the development of the city we know today through an exploration of architecture\, ecology\, public art\, and more. Experience fascinating historic buildings\, witness the formation of a new Mexican Free-tailed Bat colony\, and uncover a few local secrets all along the unique bayou trails winding through downtown Houston. \nCost\n12 and over: $5\nChildren under 12: Free \nDuration\n90 minutes \nMeeting Location\nAllen’s Landing at Main St (1005 Commerce St)\nPaid parking is available in the Bayou Lot behind El Centro Downtown (901 Commerce St) and street parking is also available along Commerce Street. \nWalking tours are 90 minutes and cover approximately 1.5 miles. Comfortable clothing\, good walking shoes and sun protection\, and a water bottle are recommended. \nREGISTER  \n 
URL:https://buffalobayou.org/event/bayou-roots-walking-tour-2/
LOCATION:ALLEN’S LANDING\, 1001 Commerce Street\, Houston\, TX\, 77002\, United States
CATEGORIES:Walking Tours,Wellness
ATTACH;FMTTYPE=image/jpeg:https://buffalobayou.org/wp-content/uploads/2025/08/2025_Bayou-Roots-Walking-Tour-14.jpeg
END:VEVENT
BEGIN:VEVENT
DTSTART;TZID=UTC:20251112T183000
DTEND;TZID=UTC:20251112T200000
DTSTAMP:20260425T113018
CREATED:20250903T204744Z
LAST-MODIFIED:20250903T204744Z
UID:10003986-1762972200-1762977600@buffalobayou.org
SUMMARY:Buffalo Bayou Park Wellness Walk
DESCRIPTION:Join Buffalo Bayou Partnership on a free Wellness Walk led by Laura Conely\, founder of Urban Paths. Anyone and everyone is invited to walk through the paths of Buffalo Bayou Park while discussing topics including mental and physical health as well as the benefits of being exposed to nature. \nEn Español\nEl primer miércoles de cada mes\, la traductora Marcella Cabrera se unirá al grupo para ofrecer la caminata guiada en español. \nCost\nFree \nDuration\n90 minutes / 3 miles \nMeeting Location\nThe Water Works in Buffalo Bayou Park (105-B Sabine St) \nFREE REGISTRATION
URL:https://buffalobayou.org/event/2025-buffalo-bayou-park-wellness-walk-94-2/
LOCATION:THE WATER WORKS\, 105 Sabine Street\, Houston\, TX\, 77007\, United States
CATEGORIES:Walking Tour,Wellness
ATTACH;FMTTYPE=image/jpeg:https://buffalobayou.org/wp-content/uploads/2024/09/Buffalo-Bayou-Park_Summer-Series-Butterfly-Nature-Walk_5.18.2024_Photographer-Melissa-Taylor-115-scaled.jpg
END:VEVENT
BEGIN:VEVENT
DTSTART;TZID=UTC:20251115T090000
DTEND;TZID=UTC:20251115T103000
DTSTAMP:20260425T113018
CREATED:20251002T205317Z
LAST-MODIFIED:20251002T205317Z
UID:10004000-1763197200-1763202600@buffalobayou.org
SUMMARY:Bayou Roots Walking Tour
DESCRIPTION:Head to the heart of downtown to discover the history of Buffalo Bayou and Houston! \nThis engaging walking tour explores the development of the city we know today through an exploration of architecture\, ecology\, public art\, and more. Experience fascinating historic buildings\, witness the formation of a new Mexican Free-tailed Bat colony\, and uncover a few local secrets all along the unique bayou trails winding through downtown Houston. \nCost\n12 and over: $5\nChildren under 12: Free \nDuration\n90 minutes \nMeeting Location\nAllen’s Landing at Main St (1005 Commerce St)\nPaid parking is available in the Bayou Lot behind El Centro Downtown (901 Commerce St) and street parking is also available along Commerce Street. \nWalking tours are 90 minutes and cover approximately 1.5 miles. Comfortable clothing\, good walking shoes and sun protection\, and a water bottle are recommended. \nREGISTER  \n 
URL:https://buffalobayou.org/event/bayou-roots-walking-tour-5/
LOCATION:ALLEN’S LANDING\, 1001 Commerce Street\, Houston\, TX\, 77002\, United States
CATEGORIES:Walking Tours,Wellness
ATTACH;FMTTYPE=image/jpeg:https://buffalobayou.org/wp-content/uploads/2025/08/2025_Bayou-Roots-Walking-Tour-14.jpeg
END:VEVENT
BEGIN:VEVENT
DTSTART;TZID=America/Chicago:20251119T180000
DTEND;TZID=America/Chicago:20251119T184500
DTSTAMP:20260425T113018
CREATED:20250825T211413Z
LAST-MODIFIED:20250825T211413Z
UID:10003968-1763575200-1763577900@buffalobayou.org
SUMMARY:Light and Sound Immersion Meditation in the Cistern
DESCRIPTION:Light & Sound Immersion in the Cistern is a restorative evening sound healing meditation set within the Buffalo Bayou Park Cistern’s reverberant chambers.  \nSaumil Manek of Union is Creation produces resonant tones and harmonics while shifting light patterns by Kelly O’Brien of Fenris create a serene\, dreamlike atmosphere. This unique experience invites deep relaxation\, inner stillness\, and a heightened connection to the senses. \nGuests should bring their own cushions or mats. For sensitive hearing\, guests may enjoy the experience with earplugs. No food or drinks are allowed inside the Cistern. \nCost: $25 \nPURCHASE TICKETS
URL:https://buffalobayou.org/event/2025-light-and-sound-immersion-meditation-in-the-cistern-2-6/
LOCATION:BUFFALO BAYOU PARK CISTERN\, 105 Sabine Street\, Houston\, TX\, 77007\, United States
CATEGORIES:Cistern,Wellness
ATTACH;FMTTYPE=image/jpeg:https://buffalobayou.org/wp-content/uploads/2023/04/IMG_0443-scaled-1.jpg
END:VEVENT
BEGIN:VEVENT
DTSTART;TZID=UTC:20251119T183000
DTEND;TZID=UTC:20251119T200000
DTSTAMP:20260425T113018
CREATED:20250903T204810Z
LAST-MODIFIED:20250903T204810Z
UID:10003987-1763577000-1763582400@buffalobayou.org
SUMMARY:Buffalo Bayou Park Wellness Walk
DESCRIPTION:Join Buffalo Bayou Partnership on a free Wellness Walk led by Laura Conely\, founder of Urban Paths. Anyone and everyone is invited to walk through the paths of Buffalo Bayou Park while discussing topics including mental and physical health as well as the benefits of being exposed to nature. \nEn Español\nEl primer miércoles de cada mes\, la traductora Marcella Cabrera se unirá al grupo para ofrecer la caminata guiada en español. \nCost\nFree \nDuration\n90 minutes / 3 miles \nMeeting Location\nThe Water Works in Buffalo Bayou Park (105-B Sabine St) \nFREE REGISTRATION
URL:https://buffalobayou.org/event/2025-buffalo-bayou-park-wellness-walk-94-3/
LOCATION:THE WATER WORKS\, 105 Sabine Street\, Houston\, TX\, 77007\, United States
CATEGORIES:Walking Tour,Wellness
ATTACH;FMTTYPE=image/jpeg:https://buffalobayou.org/wp-content/uploads/2024/09/Buffalo-Bayou-Park_Summer-Series-Butterfly-Nature-Walk_5.18.2024_Photographer-Melissa-Taylor-115-scaled.jpg
END:VEVENT
BEGIN:VEVENT
DTSTART;TZID=UTC:20251122T090000
DTEND;TZID=UTC:20251122T103000
DTSTAMP:20260425T113018
CREATED:20251002T205332Z
LAST-MODIFIED:20251002T205332Z
UID:10004001-1763802000-1763807400@buffalobayou.org
SUMMARY:Bayou Roots Walking Tour
DESCRIPTION:Head to the heart of downtown to discover the history of Buffalo Bayou and Houston! \nThis engaging walking tour explores the development of the city we know today through an exploration of architecture\, ecology\, public art\, and more. Experience fascinating historic buildings\, witness the formation of a new Mexican Free-tailed Bat colony\, and uncover a few local secrets all along the unique bayou trails winding through downtown Houston. \nCost\n12 and over: $5\nChildren under 12: Free \nDuration\n90 minutes \nMeeting Location\nAllen’s Landing at Main St (1005 Commerce St)\nPaid parking is available in the Bayou Lot behind El Centro Downtown (901 Commerce St) and street parking is also available along Commerce Street. \nWalking tours are 90 minutes and cover approximately 1.5 miles. Comfortable clothing\, good walking shoes and sun protection\, and a water bottle are recommended. \nREGISTER  \n 
URL:https://buffalobayou.org/event/bayou-roots-walking-tour-6/
LOCATION:ALLEN’S LANDING\, 1001 Commerce Street\, Houston\, TX\, 77002\, United States
CATEGORIES:Walking Tours,Wellness
ATTACH;FMTTYPE=image/jpeg:https://buffalobayou.org/wp-content/uploads/2025/08/2025_Bayou-Roots-Walking-Tour-14.jpeg
END:VEVENT
BEGIN:VEVENT
DTSTART;TZID=America/Chicago:20251126T180000
DTEND;TZID=America/Chicago:20251126T184500
DTSTAMP:20260425T113018
CREATED:20250825T211511Z
LAST-MODIFIED:20250825T211511Z
UID:10003969-1764180000-1764182700@buffalobayou.org
SUMMARY:Light and Sound Immersion Meditation in the Cistern
DESCRIPTION:Light & Sound Immersion in the Cistern is a restorative evening sound healing meditation set within the Buffalo Bayou Park Cistern’s reverberant chambers.  \nSaumil Manek of Union is Creation produces resonant tones and harmonics while shifting light patterns by Kelly O’Brien of Fenris create a serene\, dreamlike atmosphere. This unique experience invites deep relaxation\, inner stillness\, and a heightened connection to the senses. \nGuests should bring their own cushions or mats. For sensitive hearing\, guests may enjoy the experience with earplugs. No food or drinks are allowed inside the Cistern. \nCost: $25 \nPURCHASE TICKETS
URL:https://buffalobayou.org/event/2025-light-and-sound-immersion-meditation-in-the-cistern-2-7/
LOCATION:BUFFALO BAYOU PARK CISTERN\, 105 Sabine Street\, Houston\, TX\, 77007\, United States
CATEGORIES:Cistern,Wellness
ATTACH;FMTTYPE=image/jpeg:https://buffalobayou.org/wp-content/uploads/2023/04/IMG_0443-scaled-1.jpg
END:VEVENT
END:VCALENDAR