
BEGIN:VCALENDAR
PRODID:-/Asia Week New York//Asia Week New York Events//EN
VERSION:2.0
METHOD:PUBLISH
BEGIN:VEVENT
DTSTART:20160416T103000
DTEND:20160416T113000
LOCATION:
UID:12345
DTSTAMP:20260422T205200Z
DESCRIPTION:
SUMMARY:Walking Tour: Buffalo Bayou – from Mastodons to Marathons
CATEGORIES:IMP
PRIORITY:5
BEGIN:VALARM
TRIGGER:PT15M
ACTION:DISPLAY
DESCRIPTION:Reminder
PRIORITY:5
END:VALARM
END:VEVENT
END:VCALENDAR