
BEGIN:VCALENDAR
PRODID:-/Asia Week New York//Asia Week New York Events//EN
VERSION:2.0
METHOD:PUBLISH
BEGIN:VEVENT
DTSTART:20180114T020000
DTEND:20180115T015959
LOCATION:
UID:12345
DTSTAMP:20260422T1000Z
DESCRIPTION:
SUMMARY:#TeamBuffaloBayou at the Chevron Houston Marathon/Aramco Houston Half Marathon
CATEGORIES:IMP
PRIORITY:5
BEGIN:VALARM
TRIGGER:PT15M
ACTION:DISPLAY
DESCRIPTION:Reminder
PRIORITY:5
END:VALARM
END:VEVENT
END:VCALENDAR