
BEGIN:VCALENDAR
PRODID:-/Asia Week New York//Asia Week New York Events//EN
VERSION:2.0
METHOD:PUBLISH
BEGIN:VEVENT
DTSTART:20180425T180000
DTEND:20180425T203000
LOCATION:
UID:12345
DTSTAMP:20260424T93700Z
DESCRIPTION:
SUMMARY:Expansión Hacia el Este: Reuniones Comunitarias del Sector Este #2
CATEGORIES:IMP
PRIORITY:5
BEGIN:VALARM
TRIGGER:PT15M
ACTION:DISPLAY
DESCRIPTION:Reminder
PRIORITY:5
END:VALARM
END:VEVENT
END:VCALENDAR