
BEGIN:VCALENDAR
PRODID:-/Asia Week New York//Asia Week New York Events//EN
VERSION:2.0
METHOD:PUBLISH
BEGIN:VEVENT
DTSTART:20180508T180000
DTEND:20180508T190000
LOCATION:
UID:12345
DTSTAMP:20260419T213300Z
DESCRIPTION:
SUMMARY:Talking Color: Celebrating Carlos Cruz-Diez in Houston
CATEGORIES:IMP
PRIORITY:5
BEGIN:VALARM
TRIGGER:PT15M
ACTION:DISPLAY
DESCRIPTION:Reminder
PRIORITY:5
END:VALARM
END:VEVENT
END:VCALENDAR