
BEGIN:VCALENDAR
PRODID:-/Asia Week New York//Asia Week New York Events//EN
VERSION:2.0
METHOD:PUBLISH
BEGIN:VEVENT
DTSTART:20180609T090000
DTEND:20180609T110000
LOCATION:
UID:12345
DTSTAMP:20260419T205200Z
DESCRIPTION:
SUMMARY:Workout Party for Buffalo Bayou by goWorkout Houston
CATEGORIES:IMP
PRIORITY:5
BEGIN:VALARM
TRIGGER:PT15M
ACTION:DISPLAY
DESCRIPTION:Reminder
PRIORITY:5
END:VALARM
END:VEVENT
END:VCALENDAR