
BEGIN:VCALENDAR
PRODID:-/Asia Week New York//Asia Week New York Events//EN
VERSION:2.0
METHOD:PUBLISH
BEGIN:VEVENT
DTSTART:20180728T193000
DTEND:20180728T210000
LOCATION:
UID:12345
DTSTAMP:20260419T140900Z
DESCRIPTION:
SUMMARY:SOLD OUT: Waugh Bat Colony Tour
CATEGORIES:IMP
PRIORITY:5
BEGIN:VALARM
TRIGGER:PT15M
ACTION:DISPLAY
DESCRIPTION:Reminder
PRIORITY:5
END:VALARM
END:VEVENT
END:VCALENDAR