
BEGIN:VCALENDAR
PRODID:-/Asia Week New York//Asia Week New York Events//EN
VERSION:2.0
METHOD:PUBLISH
BEGIN:VEVENT
DTSTART:20180913T180000
DTEND:20180913T203000
LOCATION:
UID:12345
DTSTAMP:20260421T135900Z
DESCRIPTION:
SUMMARY:Moving East, Moving Forward: Buffalo Bayou East Sector Community Meetings
CATEGORIES:IMP
PRIORITY:5
BEGIN:VALARM
TRIGGER:PT15M
ACTION:DISPLAY
DESCRIPTION:Reminder
PRIORITY:5
END:VALARM
END:VEVENT
END:VCALENDAR