
BEGIN:VCALENDAR
PRODID:-/Asia Week New York//Asia Week New York Events//EN
VERSION:2.0
METHOD:PUBLISH
BEGIN:VEVENT
DTSTART:20180923T180000
DTEND:20180923T210000
LOCATION:
UID:12345
DTSTAMP:20260422T134300Z
DESCRIPTION:
SUMMARY:Bayou City Music Series: \&quot;Soundtrack of the Gulf\&quot; (Rescheduled and new location)
CATEGORIES:IMP
PRIORITY:5
BEGIN:VALARM
TRIGGER:PT15M
ACTION:DISPLAY
DESCRIPTION:Reminder
PRIORITY:5
END:VALARM
END:VEVENT
END:VCALENDAR