
BEGIN:VCALENDAR
PRODID:-/Asia Week New York//Asia Week New York Events//EN
VERSION:2.0
METHOD:PUBLISH
BEGIN:VEVENT
DTSTART:20181003T180000
DTEND:20181003T200000
LOCATION:
UID:12345
DTSTAMP:20260421T183600Z
DESCRIPTION:
SUMMARY:Bye, \&#039;Bayou Buddies\&#039;! New Name Reveal Happy Hour
CATEGORIES:IMP
PRIORITY:5
BEGIN:VALARM
TRIGGER:PT15M
ACTION:DISPLAY
DESCRIPTION:Reminder
PRIORITY:5
END:VALARM
END:VEVENT
END:VCALENDAR